View In:
ArcGIS JavaScript
ArcGIS Online Map Viewer
ArcGIS Earth
ArcMap
ArcGIS Pro
View Footprint In:
ArcGIS Online Map Viewer
Service Description: 2013 Aerial Imagery from LARIAC4 - acquired from Eagle Aerial
Map Name: Layers
Legend
All Layers and Tables
Layers:
Description:
Copyright Text: LA County, LARIAC, Eagle Aerial
Spatial Reference:
102100
(3857)
LatestVCSWkid(0)
Single Fused Map Cache: true
Tile Info:
- Height: 256
- Width: 256
- DPI: 96
-
Levels of Detail: 21
-
Level ID: 0
[ Start Tile, End Tile ]
- Resolution: 156543.03392800014
- Scale: 5.91657527591555E8
-
Level ID: 1
[ Start Tile, End Tile ]
- Resolution: 78271.51696399994
- Scale: 2.95828763795777E8
-
Level ID: 2
[ Start Tile, End Tile ]
- Resolution: 39135.75848200009
- Scale: 1.47914381897889E8
-
Level ID: 3
[ Start Tile, End Tile ]
- Resolution: 19567.87924099992
- Scale: 7.3957190948944E7
-
Level ID: 4
[ Start Tile, End Tile ]
- Resolution: 9783.93962049996
- Scale: 3.6978595474472E7
-
Level ID: 5
[ Start Tile, End Tile ]
- Resolution: 4891.96981024998
- Scale: 1.8489297737236E7
- Format: MIXED
- Compression Quality: 85.0
- Origin: X: -2.0037508342787E7
Y: 2.0037508342787E7
- Spatial Reference: 102100
(3857)
LatestVCSWkid(0)
Storage Info:
- Storage Format: esriMapCacheStorageModeCompact
- Packet Size: 128
Initial Extent:
XMin: -1.3374102550897324E7
YMin: 4065497.335504023
XMax: -1.2938717237785166E7
YMax: 4247417.462822656
Spatial Reference: 102100
(0)
LatestVCSWkid(0)
Full Extent:
XMin: -1.3242495993952455E7
YMin: 3933665.0452209315
XMax: -1.3094625317551117E7
YMax: 4140818.809498574
Spatial Reference: 102100
(0)
LatestVCSWkid(0)
Units: esriMeters
Supported Image Format Types: PNG32,PNG24,PNG,JPG,DIB,TIFF,EMF,PS,PDF,GIF,SVG,SVGZ,BMP
Document Info:
Title:
Author:
Comments:
Subject:
Category:
Keywords:
AntialiasingMode: None
TextAntialiasingMode: Force
Supports Dynamic Layers: false
Resampling: false
MaxRecordCount: 1000
MaxImageHeight: 4096
MaxImageWidth: 4096
Supported Query Formats: JSON, geoJSON, PBF
Supports Query Data Elements: true
Min Scale: 5.91657527591555E8
Max Scale: 564.248588
Supports Datum Transformation: true
Child Resources:
Info
Supported Operations:
Export Map
Identify
QueryLegends
QueryDomains
Find
Return Updates